BEGIN:VCALENDAR
VERSION:2.0
PRODID:-//wp-events-plugin.com//7.2.3.1//EN
TZID:America/New_York
X-WR-TIMEZONE:America/New_York
BEGIN:VEVENT
UID:185@heatreward.com
DTSTART;TZID=America/New_York:20250816T180000
DTEND;TZID=America/New_York:20250816T210000
DTSTAMP:20250815T164719Z
URL:https://heatreward.com/events/display-at-the-lynchburg-hillcats-game/
SUMMARY:Display at the Lynchburg Hillcats game
DESCRIPTION:Take me out to the Ballgame!!! Come out to Bank of The James St
 adium to see the Hillcats take on the Delmarva Shorebirds! Not only will t
 he HEAT Program will also have their Corvette on display\, you can learn v
 aluable ways to #ProtectYourRide !!! We hope to see you there!
CATEGORIES:Public Displays
LOCATION:Bank of the James Stadium\, 3180 Fort Avenue\, Lynchburg\, Virgini
 a \, 24501\, United States
X-APPLE-STRUCTURED-LOCATION;VALUE=URI;X-ADDRESS=3180 Fort Avenue\, Lynchbur
 g\, Virginia \, 24501\, United States;X-APPLE-RADIUS=100;X-TITLE=Bank of t
 he James Stadium:geo:0,0
END:VEVENT
BEGIN:VTIMEZONE
TZID:America/New_York
X-LIC-LOCATION:America/New_York
BEGIN:DAYLIGHT
DTSTART:20250309T030000
TZOFFSETFROM:-0500
TZOFFSETTO:-0400
TZNAME:EDT
END:DAYLIGHT
END:VTIMEZONE
END:VCALENDAR