BEGIN:VCALENDAR
VERSION:2.0
PRODID:-//wp-events-plugin.com//7.2.3.1//EN
TZID:America/New_York
X-WR-TIMEZONE:America/New_York
BEGIN:VEVENT
UID:4@heatreward.com
DTSTART;TZID=America/New_York:20201006T170000
DTEND;TZID=America/New_York:20201006T200000
DTSTAMP:20200921T213717Z
URL:https://heatreward.com/events/national-night-out-2/
SUMMARY:National Night Out with the Franklin Police Department
DESCRIPTION:
CATEGORIES:National Night Out
LOCATION:Armory Field\, 910 Armory Drive\, Franklin\, VA\, 23851\, United S
 tates
X-APPLE-STRUCTURED-LOCATION;VALUE=URI;X-ADDRESS=910 Armory Drive\, Franklin
 \, VA\, 23851\, United States;X-APPLE-RADIUS=100;X-TITLE=Armory Field:geo:
 0,0
END:VEVENT
BEGIN:VTIMEZONE
TZID:America/New_York
X-LIC-LOCATION:America/New_York
BEGIN:DAYLIGHT
DTSTART:20200308T030000
TZOFFSETFROM:-0500
TZOFFSETTO:-0400
TZNAME:EDT
END:DAYLIGHT
END:VTIMEZONE
END:VCALENDAR