BEGIN:VCALENDAR
VERSION:2.0
PRODID:-//wp-events-plugin.com//7.2.3.1//EN
TZID:America/New_York
X-WR-TIMEZONE:America/New_York
BEGIN:VEVENT
UID:146@heatreward.com
DTSTART;TZID=America/New_York:20241021T150000
DTEND;TZID=America/New_York:20241021T180000
DTSTAMP:20240724T173638Z
URL:https://heatreward.com/events/vin-etching-at-christiansburg-fire-depar
 tment/
SUMMARY:VIN Etching at Christiansburg Fire Department
DESCRIPTION:What is VIN Etching? Etching your vehicle's VIN into your windo
 ws deters professional thieves from stealing YOUR vehicle! Join VSP HEAT a
 nd Christiansburg Police Department and #protectyourride with this FREE 
 service! Our F-250 will be on display and we'll have lots of FREE giveaway
 s. Hope to see you there!
CATEGORIES:VIN Etchings
LOCATION:Christiansburg Fire Department\, 110 Depot St NW\, Christiansburg\
 , VA\, 24073\, United States
X-APPLE-STRUCTURED-LOCATION;VALUE=URI;X-ADDRESS=110 Depot St NW\, Christian
 sburg\, VA\, 24073\, United States;X-APPLE-RADIUS=100;X-TITLE=Christiansbu
 rg Fire Department:geo:0,0
END:VEVENT
BEGIN:VTIMEZONE
TZID:America/New_York
X-LIC-LOCATION:America/New_York
BEGIN:DAYLIGHT
DTSTART:20240310T030000
TZOFFSETFROM:-0500
TZOFFSETTO:-0400
TZNAME:EDT
END:DAYLIGHT
END:VTIMEZONE
END:VCALENDAR